BEGIN:VCALENDAR
VERSION:2.0
PRODID:-//Sociedad Aragonesa de Reumatología - ECPv6.15.13//NONSGML v1.0//EN
CALSCALE:GREGORIAN
METHOD:PUBLISH
X-WR-CALNAME:Sociedad Aragonesa de Reumatología
X-ORIGINAL-URL:https://sareumatologia.es
X-WR-CALDESC:Eventos para Sociedad Aragonesa de Reumatología
REFRESH-INTERVAL;VALUE=DURATION:PT1H
X-Robots-Tag:noindex
X-PUBLISHED-TTL:PT1H
BEGIN:VTIMEZONE
TZID:Europe/Madrid
BEGIN:DAYLIGHT
TZOFFSETFROM:+0100
TZOFFSETTO:+0200
TZNAME:CEST
DTSTART:20200329T010000
END:DAYLIGHT
BEGIN:STANDARD
TZOFFSETFROM:+0200
TZOFFSETTO:+0100
TZNAME:CET
DTSTART:20201025T010000
END:STANDARD
BEGIN:DAYLIGHT
TZOFFSETFROM:+0100
TZOFFSETTO:+0200
TZNAME:CEST
DTSTART:20210328T010000
END:DAYLIGHT
BEGIN:STANDARD
TZOFFSETFROM:+0200
TZOFFSETTO:+0100
TZNAME:CET
DTSTART:20211031T010000
END:STANDARD
BEGIN:DAYLIGHT
TZOFFSETFROM:+0100
TZOFFSETTO:+0200
TZNAME:CEST
DTSTART:20220327T010000
END:DAYLIGHT
BEGIN:STANDARD
TZOFFSETFROM:+0200
TZOFFSETTO:+0100
TZNAME:CET
DTSTART:20221030T010000
END:STANDARD
END:VTIMEZONE
BEGIN:VEVENT
DTSTART;VALUE=DATE:20210215
DTEND;VALUE=DATE:20210220
DTSTAMP:20260425T185519
CREATED:20210218T200854Z
LAST-MODIFIED:20210219T190759Z
UID:775-1613347200-1613779199@sareumatologia.es
SUMMARY:Curso on-line Avanzado de Ecografía 2021
DESCRIPTION:Del 15 al 19 de febrero se celebra el Curso on-line Avanzado de la Escuela de Ecografía 2021\, que cuenta con el patrocinio de AbbVie. \nPara inscribirse tienes que acceder al formulario que está habilitado a través del portal del socio\, en el apartado de “Oferta formativa”\, hasta el 18 de enero 2021. \nConsulta aquí la convocatoria del curso.
URL:https://sareumatologia.es/evento/curso-on-line-avanzado-de-ecografia-2021/
ATTACH;FMTTYPE=image/jpeg:https://sareumatologia.es/wp-content/uploads/2021/02/Ecografia.jpg
END:VEVENT
END:VCALENDAR